BEGIN:VCALENDAR
VERSION:2.0
PRODID:-//EIMAB - ECPv5.5.0.1//NONSGML v1.0//EN
CALSCALE:GREGORIAN
METHOD:PUBLISH
X-WR-CALNAME:EIMAB
X-ORIGINAL-URL:https://www.eimab.lu
X-WR-CALDESC:Events for EIMAB
BEGIN:VTIMEZONE
TZID:Europe/Paris
BEGIN:DAYLIGHT
TZOFFSETFROM:+0100
TZOFFSETTO:+0200
TZNAME:CEST
DTSTART:20210328T010000
END:DAYLIGHT
BEGIN:STANDARD
TZOFFSETFROM:+0200
TZOFFSETTO:+0100
TZNAME:CET
DTSTART:20211031T010000
END:STANDARD
END:VTIMEZONE
BEGIN:VEVENT
DTSTART;TZID=Europe/Paris:20210419T080000
DTEND;TZID=Europe/Paris:20210430T170000
DTSTAMP:20210420T171932
CREATED:20210312T133635Z
LAST-MODIFIED:20210419T134151Z
UID:3841-1618819200-1619802000@www.eimab.lu
SUMMARY:Inscriptions EIMAB
DESCRIPTION:Comment faire une demande d’admission au secondaire international?\n	\n	\n		\n					Période de dépôt: du lundi 19 avril 2021 au vendredi 30 avril 2021 (phase 2) \nHeures de dépôt: du lundi au vendredi de 08h00 à 12h00 et de 13h00 à 16h00 (entre 12h00 et 13h00 sur rendez-vous) \nLieu de dépôt:  secrétariat EIMAB II\, 46\, rue de la Gare\, L-7590 Mersch    \nAdresse pour envoi par courrier: École internationale Mersch Anne Beffort\, B.P. 91\, L-7501 Mersch  \nDocuments à joindre lors du dépôt de votre demande d’admission: \n\nune copie du bilan de fin de la dernière année scolaire (pour les élèves du système national: une copie des bilans intermédiaires du cycle 4)\nune copie de la carte d’identité\nune copie de la carte de sécurité sociale\nun certificat de résidence  au nom de l’élève (à demander auprès de votre administration communale)\nla demande d’admission dûment remplie en caractères d’imprimerie (voir les formulaires interactifs ci-dessous)\n\n\n\n					\n										Demande d’admission (S1)\n											\n									\n\n					\n										Aufnahmeantrag (S1)\n											\n									\n\n					\n										Application form (S1)\n											\n									\n\nLe cas échéant\, des entretiens seront organisés selon la disponibilité des places. \nNous vous prions également de bien vouloir prendre note que toutes les réponses concernant les demandes d’admission seront communiquées exclusivement par courrier postal. \n\n		\n	\n\n\n	\n		Comment faire une demande d’admission pour la ‘Voie de préparation internationale’?\n	\n	\n		\n					Période de dépôt: du lundi 19 avril 2021 au vendredi 30 avril 2021 (phase 2) \nHeures de dépôt: du lundi au vendredi de 08h00 à 12h00 et de 13h00 à 16h00 (entre 12h00 et 13h00 sur rendez-vous) \nLieu de dépôt:  secrétariat EIMAB II\, 46\, rue de la Gare\, L-7590 Mersch    \nAdresse pour envoi par courrier: École internationale Mersch Anne Beffort\, B.P. 91\, L-7501 Mersch  \nDocuments à joindre lors du dépôt de votre demande d’admission: \n\nune copie du bilan de fin de la dernière année scolaire (pour les élèves du système national: une copie des bilans intermédiaires du cycle 4)\nune copie de la carte d’identité\nune copie de la carte de sécurité sociale\nun certificat de résidence  au nom de l’élève (à demander auprès de votre administration communale)\nle plan de prise en charge\nla demande d’admission dûment remplie en caractères d’imprimerie (voir formulaire interactif ci-dessous)\n\n\n\n					\n										Demande d’admission (VPi)\n											\n									\n\n					\n										Aufnahmeantrag (VPi)\n											\n									\n\n					\n										Pedido de admissão (VPi)\n											\n									\n\nLe cas échéant\, des entretiens seront organisés selon la disponibilité des places. \nNous vous prions également de bien vouloir prendre note que toutes les réponses concernant les demandes d’admission seront communiquées exclusivement par courrier postal.
URL:https://www.eimab.lu/event/inscriptions-phase-1/
CATEGORIES:Ecole
ATTACH;FMTTYPE=image/jpeg:https://www.eimab.lu/wp-content/uploads/2021/03/EIMAB_2021Stock_12.jpg
END:VEVENT
END:VCALENDAR